BEGIN:VCALENDAR
VERSION:2.0
PRODID:-//Militärmusik Oberösterreich - ECPv6.15.12.2//NONSGML v1.0//EN
CALSCALE:GREGORIAN
METHOD:PUBLISH
X-ORIGINAL-URL:http://militaermusikooe.at
X-WR-CALDESC:Veranstaltungen für Militärmusik Oberösterreich
REFRESH-INTERVAL;VALUE=DURATION:PT1H
X-Robots-Tag:noindex
X-PUBLISHED-TTL:PT1H
BEGIN:VTIMEZONE
TZID:Europe/Vienna
BEGIN:DAYLIGHT
TZOFFSETFROM:+0100
TZOFFSETTO:+0200
TZNAME:CEST
DTSTART:20240331T010000
END:DAYLIGHT
BEGIN:STANDARD
TZOFFSETFROM:+0200
TZOFFSETTO:+0100
TZNAME:CET
DTSTART:20241027T010000
END:STANDARD
BEGIN:DAYLIGHT
TZOFFSETFROM:+0100
TZOFFSETTO:+0200
TZNAME:CEST
DTSTART:20250330T010000
END:DAYLIGHT
BEGIN:STANDARD
TZOFFSETFROM:+0200
TZOFFSETTO:+0100
TZNAME:CET
DTSTART:20251026T010000
END:STANDARD
BEGIN:DAYLIGHT
TZOFFSETFROM:+0100
TZOFFSETTO:+0200
TZNAME:CEST
DTSTART:20260329T010000
END:DAYLIGHT
BEGIN:STANDARD
TZOFFSETFROM:+0200
TZOFFSETTO:+0100
TZNAME:CET
DTSTART:20261025T010000
END:STANDARD
END:VTIMEZONE
BEGIN:VEVENT
DTSTART;TZID=Europe/Vienna:20250613T170000
DTEND;TZID=Europe/Vienna:20250613T193000
DTSTAMP:20260423T160832
CREATED:20250226T075352Z
LAST-MODIFIED:20250527T075836Z
UID:8451-1749834000-1749843000@militaermusikooe.at
SUMMARY:Standkonzert + Rasenshow BMF Aurolzmünster
DESCRIPTION:
URL:http://militaermusikooe.at/event/standkonzert-rasenshow-bmf-aurolzmuenster/
LOCATION:Aurolzmünster\, Aurolzmünster\, Oberösterreich\, 4971\, Österreich
END:VEVENT
BEGIN:VEVENT
DTSTART;TZID=Europe/Vienna:20250614T170000
DTEND;TZID=Europe/Vienna:20250614T193000
DTSTAMP:20260423T160832
CREATED:20250226T075512Z
LAST-MODIFIED:20250527T075921Z
UID:8453-1749920400-1749929400@militaermusikooe.at
SUMMARY:Standkonzert + Show MF Würmla
DESCRIPTION:
URL:http://militaermusikooe.at/event/standkonzert-show-mf-wuermla/
LOCATION:Würmla\, Würmla\, Niederösterreich\, 3042\, Austria
END:VEVENT
BEGIN:VEVENT
DTSTART;TZID=Europe/Vienna:20250621T154500
DTEND;TZID=Europe/Vienna:20250621T163000
DTSTAMP:20260423T160832
CREATED:20250226T075749Z
LAST-MODIFIED:20250527T081433Z
UID:8456-1750520700-1750523400@militaermusikooe.at
SUMMARY:Camouflash beim Donauinselfest 2025
DESCRIPTION:
URL:http://militaermusikooe.at/event/camouflash-beim-donauinselfest-2025/
LOCATION:Donauinsel\, Wien\, Wien\, 1210\, Austria
END:VEVENT
BEGIN:VEVENT
DTSTART;TZID=Europe/Vienna:20250625T193000
DTEND;TZID=Europe/Vienna:20250625T213000
DTSTAMP:20260423T160832
CREATED:20250120T084805Z
LAST-MODIFIED:20250120T084805Z
UID:8407-1750879800-1750887000@militaermusikooe.at
SUMMARY:Schlosskonzert
DESCRIPTION:
URL:http://militaermusikooe.at/event/schlosskonzert-3/
LOCATION:Schloss Ort\, Ort 1\, Gmunden\, Oberösterreich\, 4810\, Österreich
END:VEVENT
BEGIN:VEVENT
DTSTART;TZID=Europe/Vienna:20250626T100000
DTEND;TZID=Europe/Vienna:20250626T110000
DTSTAMP:20260423T160832
CREATED:20250120T084854Z
LAST-MODIFIED:20250120T084854Z
UID:8409-1750932000-1750935600@militaermusikooe.at
SUMMARY:Schulkonzert
DESCRIPTION:
URL:http://militaermusikooe.at/event/schulkonzert-34/
LOCATION:Lenzing\, Lenzing\, Oberösterreich\, 4860\, Austria
END:VEVENT
END:VCALENDAR